BEGIN:VCALENDAR
VERSION:2.0
PRODID:-//Segelclub Förmitzspeicher e.V. Hof - ECPv6.15.20//NONSGML v1.0//EN
CALSCALE:GREGORIAN
METHOD:PUBLISH
X-WR-CALNAME:Segelclub Förmitzspeicher e.V. Hof
X-ORIGINAL-URL:https://www.sf-hof.de
X-WR-CALDESC:Veranstaltungen für Segelclub Förmitzspeicher e.V. Hof
REFRESH-INTERVAL;VALUE=DURATION:PT1H
X-Robots-Tag:noindex
X-PUBLISHED-TTL:PT1H
BEGIN:VTIMEZONE
TZID:Europe/Berlin
BEGIN:DAYLIGHT
TZOFFSETFROM:+0100
TZOFFSETTO:+0200
TZNAME:CEST
DTSTART:20230326T010000
END:DAYLIGHT
BEGIN:STANDARD
TZOFFSETFROM:+0200
TZOFFSETTO:+0100
TZNAME:CET
DTSTART:20231029T010000
END:STANDARD
BEGIN:DAYLIGHT
TZOFFSETFROM:+0100
TZOFFSETTO:+0200
TZNAME:CEST
DTSTART:20240331T010000
END:DAYLIGHT
BEGIN:STANDARD
TZOFFSETFROM:+0200
TZOFFSETTO:+0100
TZNAME:CET
DTSTART:20241027T010000
END:STANDARD
BEGIN:DAYLIGHT
TZOFFSETFROM:+0100
TZOFFSETTO:+0200
TZNAME:CEST
DTSTART:20250330T010000
END:DAYLIGHT
BEGIN:STANDARD
TZOFFSETFROM:+0200
TZOFFSETTO:+0100
TZNAME:CET
DTSTART:20251026T010000
END:STANDARD
END:VTIMEZONE
BEGIN:VEVENT
DTSTART;VALUE=DATE:20240706
DTEND;VALUE=DATE:20240708
DTSTAMP:20260423T192533
CREATED:20240329T213752Z
LAST-MODIFIED:20240329T214844Z
UID:2038-1720224000-1720396799@www.sf-hof.de
SUMMARY:420er-RR (1.00): "Bayerische Landesjugendmeisterschaft 2024 / Nordbayernpokal" beim Yachtclub Weiden am Brückelsee
DESCRIPTION:Einladung an alle U19: Wer fährt mit? \nAnfängertaugliches Revier. \nMeldung unter:  https://www.manage2sail.com/de-DE/event/ac21e0c9-d60c-4080-be2f-47399901c795#!/ \nTrainer: N.N. \n(Hinweis: Frank ist als Obmann des Protestkomitees eingeteilt und kann diesmal nicht als Trainer unterstützen.) \n  \n 
URL:https://www.sf-hof.de/event/nordbayernpokal2024/
LOCATION:Brückelsee\, Wackersdorf\, Deutschland
CATEGORIES:420er,Jugend- und Juniorenabteilung,SF officials on tour
END:VEVENT
END:VCALENDAR