BEGIN:VCALENDAR
VERSION:2.0
PRODID:-//Segelclub Förmitzspeicher e.V. Hof - ECPv6.15.20//NONSGML v1.0//EN
CALSCALE:GREGORIAN
METHOD:PUBLISH
X-ORIGINAL-URL:https://www.sf-hof.de
X-WR-CALDESC:Veranstaltungen für Segelclub Förmitzspeicher e.V. Hof
REFRESH-INTERVAL;VALUE=DURATION:PT1H
X-Robots-Tag:noindex
X-PUBLISHED-TTL:PT1H
BEGIN:VTIMEZONE
TZID:Europe/Berlin
BEGIN:DAYLIGHT
TZOFFSETFROM:+0100
TZOFFSETTO:+0200
TZNAME:CEST
DTSTART:20250330T010000
END:DAYLIGHT
BEGIN:STANDARD
TZOFFSETFROM:+0200
TZOFFSETTO:+0100
TZNAME:CET
DTSTART:20251026T010000
END:STANDARD
BEGIN:DAYLIGHT
TZOFFSETFROM:+0100
TZOFFSETTO:+0200
TZNAME:CEST
DTSTART:20260329T010000
END:DAYLIGHT
BEGIN:STANDARD
TZOFFSETFROM:+0200
TZOFFSETTO:+0100
TZNAME:CET
DTSTART:20261025T010000
END:STANDARD
BEGIN:DAYLIGHT
TZOFFSETFROM:+0100
TZOFFSETTO:+0200
TZNAME:CEST
DTSTART:20270328T010000
END:DAYLIGHT
BEGIN:STANDARD
TZOFFSETFROM:+0200
TZOFFSETTO:+0100
TZNAME:CET
DTSTART:20271031T010000
END:STANDARD
END:VTIMEZONE
BEGIN:VEVENT
DTSTART;VALUE=DATE:20260227
DTEND;VALUE=DATE:20260302
DTSTAMP:20260421T102335
CREATED:20251104T110052Z
LAST-MODIFIED:20251104T110052Z
UID:2454-1772150400-1772409599@www.sf-hof.de
SUMMARY:DSV: 26. Jugendseglertreffen 2026
DESCRIPTION:Das 26. Jugendseglertreffen findet vom 27. Februar bis 1. März 2026 im Jugendbildungszentrum in Blossin statt. \nAnträge sind bis spätestens zum 28. Dezember 2025 (Eingang) schriftlich mit Begründung an die Abteilung Jugend des Deutschen Segler-Verbands\, Soling 16\, 24159 Kiel\, zu richten. \nSF-Vertretung: Klärt unsere Jugendleiterin Marlene
URL:https://www.sf-hof.de/event/dsv-jst26/
LOCATION:Jugendbildungszentrum Blossin
CATEGORIES:Jugend- und Juniorenabteilung
END:VEVENT
END:VCALENDAR