BEGIN:VCALENDAR
VERSION:2.0
PRODID:-//Segelclub Förmitzspeicher e.V. Hof - ECPv6.15.20//NONSGML v1.0//EN
CALSCALE:GREGORIAN
METHOD:PUBLISH
X-WR-CALNAME:Segelclub Förmitzspeicher e.V. Hof
X-ORIGINAL-URL:https://www.sf-hof.de
X-WR-CALDESC:Veranstaltungen für Segelclub Förmitzspeicher e.V. Hof
REFRESH-INTERVAL;VALUE=DURATION:PT1H
X-Robots-Tag:noindex
X-PUBLISHED-TTL:PT1H
BEGIN:VTIMEZONE
TZID:Europe/Berlin
BEGIN:DAYLIGHT
TZOFFSETFROM:+0100
TZOFFSETTO:+0200
TZNAME:CEST
DTSTART:20220327T010000
END:DAYLIGHT
BEGIN:STANDARD
TZOFFSETFROM:+0200
TZOFFSETTO:+0100
TZNAME:CET
DTSTART:20221030T010000
END:STANDARD
BEGIN:DAYLIGHT
TZOFFSETFROM:+0100
TZOFFSETTO:+0200
TZNAME:CEST
DTSTART:20230326T010000
END:DAYLIGHT
BEGIN:STANDARD
TZOFFSETFROM:+0200
TZOFFSETTO:+0100
TZNAME:CET
DTSTART:20231029T010000
END:STANDARD
BEGIN:DAYLIGHT
TZOFFSETFROM:+0100
TZOFFSETTO:+0200
TZNAME:CEST
DTSTART:20240331T010000
END:DAYLIGHT
BEGIN:STANDARD
TZOFFSETFROM:+0200
TZOFFSETTO:+0100
TZNAME:CET
DTSTART:20241027T010000
END:STANDARD
END:VTIMEZONE
BEGIN:VEVENT
DTSTART;TZID=Europe/Berlin:20230722T090000
DTEND;TZID=Europe/Berlin:20230722T090000
DTSTAMP:20260423T172151
CREATED:20230308T184422Z
LAST-MODIFIED:20230326T154742Z
UID:712-1690016400-1690016400@www.sf-hof.de
SUMMARY:DSV-Prüfung Sportbootführerscheine und Funkscheine
DESCRIPTION:Prüfung des DSV-Prüfungsausschusses Bayern-Nord / Ausland in den Räumen des Segelclub Förmitzspeicher e.V. Hof \nInfos und Anmeldung unter: https://www.sportbootfuehrerscheine.org/pruefungen/pruefungsausschuesse/ausland/ \n(Auf der Tabelle unten auf der Seite bitte unter PLZ „95126“ eingeben.) \nViel Erfolg! \nEuer SF-Ausbildungsteam
URL:https://www.sf-hof.de/event/dsv-pruefung-hof/
LOCATION:Seglerheim „Auf Legerwall“\, Birkenbühl 3\, Schwarzenbach an der Saale\, Bayern\, 95126
CATEGORIES:Ausbildung
END:VEVENT
END:VCALENDAR